Workbook

Sheet SP8 E42
A1: OBSERVATION E42 SITUATION A
A2: Etudiant
A3: Situation professionnelle (préciser AP, TD ou S)
A4: Date
A5: Pofesseur
A6: Missions | B6: question testée | C6: commentaire
A8: mission 1
A14: mission 2
A20: mission 3
A26: mission 4
A32: mission 5
A38: mission 6
A45: Critères | B45: LL | C45: L | D45: K | E45: J | F45: JJ
A46: 1.Qualité et conformité des productions réalisées | E46: x
A47: 2.Efficacité dans la mise en œuvre de l’environnement numérique mobilisé pour réaliser les productions | E47: x
A48: 3.Pertinence des solutions numériques retenues pour effectuer les traitements | E48: x
A49: 4.Précision et rigueur de la présentation des productions réalisées et de la démarche mise en œuvre | E49: x
A50: 5.Pertinence et justification des démarches mises en œuvre | E50: x
A51: 6.Qualité et efficacité de la communication | E51: x
A52: Conseils à l'étudiant (notamment les leviers de progrès à actionner)

Sheet SP7 E42
A1: OBSERVATION E42 SITUATION A
A2: Etudiant
A3: Situation professionnelle (préciser AP, TD ou S)
A4: Date
A5: Pofesseur
A6: Missions | B6: question testée | C6: commentaire
A8: mission 1
A14: mission 2
A20: mission 3
A26: mission 4
A32: mission 5
A38: mission 6
A45: Critères | B45: LL | C45: L | D45: K | E45: J | F45: JJ
A46: 1.Qualité et conformité des productions réalisées | C46: x
A47: 2.Efficacité dans la mise en œuvre de l’environnement numérique mobilisé pour réaliser les productions | C47: x
A48: 3.Pertinence des solutions numériques retenues pour effectuer les traitements | C48: x
A49: 4.Précision et rigueur de la présentation des productions réalisées et de la démarche mise en œuvre | C49: x
A50: 5.Pertinence et justification des démarches mises en œuvre | C50: x
A51: 6.Qualité et efficacité de la communication | C51: x
A52: Conseils à l'étudiant (notamment les leviers de progrès à actionner)

Sheet SP6 E42
A1: OBSERVATION E42 SITUATION A
A2: Etudiant
A3: Situation professionnelle (préciser AP, TD ou S)
A4: Date
A5: Pofesseur
A6: Missions | B6: question testée | C6: commentaire
A8: mission 1
A14: mission 2
A20: mission 3
A26: mission 4
A32: mission 5
A38: mission 6
A45: Critères | B45: LL | C45: L | D45: K | E45: J | F45: JJ
A46: 1.Qualité et conformité des productions réalisées | D46: x
A47: 2.Efficacité dans la mise en œuvre de l’environnement numérique mobilisé pour réaliser les productions | D47: x
A48: 3.Pertinence des solutions numériques retenues pour effectuer les traitements | D48: x
A49: 4.Précision et rigueur de la présentation des productions réalisées et de la démarche mise en œuvre | D49: x
A50: 5.Pertinence et justification des démarches mises en œuvre | D50: x
A51: 6.Qualité et efficacité de la communication | D51: x
A52: Conseils à l'étudiant (notamment les leviers de progrès à actionner)

Sheet SP5 E42
A1: OBSERVATION E42 SITUATION A
A2: Etudiant
A3: Situation professionnelle (préciser AP, TD ou S)
A4: Date
A5: Pofesseur
A6: Missions | B6: question testée | C6: commentaire
A8: mission 1
A14: mission 2
A20: mission 3
A26: mission 4
A32: mission 5
A38: mission 6
A45: Critères | B45: LL | C45: L | D45: K | E45: J | F45: JJ
A46: 1.Qualité et conformité des productions réalisées | E46: x
A47: 2.Efficacité dans la mise en œuvre de l’environnement numérique mobilisé pour réaliser les productions | D47: x
A48: 3.Pertinence des solutions numériques retenues pour effectuer les traitements | C48: x
A49: 4.Précision et rigueur de la présentation des productions réalisées et de la démarche mise en œuvre | B49: x
A50: 5.Pertinence et justification des démarches mises en œuvre | C50: x
A51: 6.Qualité et efficacité de la communication | D51: x
A52: Conseils à l'étudiant (notamment les leviers de progrès à actionner)

Sheet SP4 E42
A1: OBSERVATION E42 SITUATION A
A2: Etudiant
A3: Situation professionnelle (préciser AP, TD ou S)
A4: Date
A5: Pofesseur
A6: Missions | B6: question testée | C6: commentaire
A8: mission 1
A14: mission 2
A20: mission 3
A26: mission 4
A32: mission 5
A38: mission 6
A45: Critères | B45: LL | C45: L | D45: K | E45: J | F45: JJ
A46: 1.Qualité et conformité des productions réalisées | B46: x
A47: 2.Efficacité dans la mise en œuvre de l’environnement numérique mobilisé pour réaliser les productions | C47: x
A48: 3.Pertinence des solutions numériques retenues pour effectuer les traitements | D48: x
A49: 4.Précision et rigueur de la présentation des productions réalisées et de la démarche mise en œuvre | E49: x
A50: 5.Pertinence et justification des démarches mises en œuvre | F50: x
A51: 6.Qualité et efficacité de la communication | E51: x
A52: Conseils à l'étudiant (notamment les leviers de progrès à actionner)

Sheet SP3 E42
A1: OBSERVATION E42 SITUATION A
A2: Etudiant
A3: Situation professionnelle (préciser AP, TD ou S)
A4: Date
A5: Pofesseur
A6: Missions | B6: question testée | C6: commentaire
A8: mission 1
A14: mission 2
A20: mission 3
A26: mission 4
A32: mission 5
A38: mission 6
A45: Critères | B45: LL | C45: L | D45: K | E45: J | F45: JJ
A46: 1.Qualité et conformité des productions réalisées | F46: x
A47: 2.Efficacité dans la mise en œuvre de l’environnement numérique mobilisé pour réaliser les productions | E47: x
A48: 3.Pertinence des solutions numériques retenues pour effectuer les traitements | D48: x
A49: 4.Précision et rigueur de la présentation des productions réalisées et de la démarche mise en œuvre | C49: x
A50: 5.Pertinence et justification des démarches mises en œuvre | C50: x
A51: 6.Qualité et efficacité de la communication | F51: x
A52: Conseils à l'étudiant (notamment les leviers de progrès à actionner)

Sheet SP2 E42
A1: OBSERVATION E42 SITUATION A
A2: Etudiant
A3: Situation professionnelle (préciser AP, TD ou S)
A4: Date
A5: Pofesseur
A6: Missions | B6: question testée | C6: commentaire
A8: mission 1
A14: mission 2
A20: mission 3
A26: mission 4
A32: mission 5
A38: mission 6
A45: Critères | B45: LL | C45: L | D45: K | E45: J | F45: JJ
A46: 1.Qualité et conformité des productions réalisées | D46: x
A47: 2.Efficacité dans la mise en œuvre de l’environnement numérique mobilisé pour réaliser les productions | D47: x
A48: 3.Pertinence des solutions numériques retenues pour effectuer les traitements | C48: x
A49: 4.Précision et rigueur de la présentation des productions réalisées et de la démarche mise en œuvre | C49: x
A50: 5.Pertinence et justification des démarches mises en œuvre | B50: x
A51: 6.Qualité et efficacité de la communication | E51: x
A52: Conseils à l'étudiant (notamment les leviers de progrès à actionner)

Sheet SP1 E42
A1: OBSERVATION E42 SITUATION A
A2: Etudiant
A3: Situation professionnelle (préciser AP, TD ou S)
A4: Date
A5: Pofesseur
A6: Missions | B6: question testée | C6: commentaire
A8: mission 1
A14: mission 2
A20: mission 3
A26: mission 4
A32: mission 5
A38: mission 6
A45: Critères | B45: LL | C45: L | D45: K | E45: J | F45: JJ
A46: 1.Qualité et conformité des productions réalisées | E46: x
A47: 2.Efficacité dans la mise en œuvre de l’environnement numérique mobilisé pour réaliser les productions | F47: x
A48: 3.Pertinence des solutions numériques retenues pour effectuer les traitements | C48: x
A49: 4.Précision et rigueur de la présentation des productions réalisées et de la démarche mise en œuvre | D49: x
A50: 5.Pertinence et justification des démarches mises en œuvre | C50: x
A51: 6.Qualité et efficacité de la communication | E51: x
A52: Conseils à l'étudiant (notamment les leviers de progrès à actionner)

Sheet synthèse E42
A2: Etudiant
A3: Observation E42 situation A
A4: E4.2 | B4: description critère | C4: SP1 | D4: SP2 | E4: SP3 | F4: SP4 | G4: SP5 | H4: SP6 | I4: SP7 | J4: SP8
A5: SITUATIONS A ET B | B5: 1.Qualité et conformité des productions réalisées | C5: =IF('SP1 E42'!$B46="x",1,IF('SP1 E42'!$C46="x",2,IF('SP1 E42'!$D46="x",3,IF('SP1 E42'!$E46="x",4,IF('SP1 E42'!$F46="x",5,""))))) -> 4 | D5: =IF('SP2 E42'!$B46="x",1,IF('SP2 E42'!$C46="x",2,IF('SP2 E42'!$D46="x",3,IF('SP2 E42'!$E46="x",4,IF('SP2 E42'!$F46="x",5,""))))) -> 3 | E5: =IF('SP3 E42'!$B46="x",1,IF('SP3 E42'!$C46="x",2,IF('SP3 E42'!$D46="x",3,IF('SP3 E42'!$E46="x",4,IF('SP3 E42'!$F46="x",5,""))))) -> 5 | F5: =IF('SP4 E42'!$B46="x",1,IF('SP4 E42'!$C46="x",2,IF('SP4 E42'!$D46="x",3,IF('SP4 E42'!$E46="x",4,IF('SP4 E42'!$F46="x",5,""))))) -> 1 | G5: =IF('SP5 E42'!$B46="x",1,IF('SP5 E42'!$C46="x",2,IF('SP5 E42'!$D46="x",3,IF('SP5 E42'!$E46="x",4,IF('SP5 E42'!$F46="x",5,""))))) -> 4 | H5: =IF('SP6 E42'!$B46="x",1,IF('SP6 E42'!$C46="x",2,IF('SP6 E42'!$D46="x",3,IF('SP6 E42'!$E46="x",4,IF('SP6 E42'!$F46="x",5,""))))) -> 3 | I5: =IF('SP7 E42'!$B46="x",1,IF('SP7 E42'!$C46="x",2,IF('SP7 E42'!$D46="x",3,IF('SP7 E42'!$E46="x",4,IF('SP7 E42'!$F46="x",5,""))))) -> 2 | J5: =IF('SP8 E42'!$B46="x",1,IF('SP8 E42'!$C46="x",2,IF('SP8 E42'!$D46="x",3,IF('SP8 E42'!$E46="x",4,IF('SP8 E42'!$F46="x",5,""))))) -> 4
B6: 2.Efficacité dans la mise en œuvre de l’environnement numérique mobilisé pour réaliser les productions | C6: =IF('SP1 E42'!$B47="x",1,IF('SP1 E42'!$C47="x",2,IF('SP1 E42'!$D47="x",3,IF('SP1 E42'!$E47="x",4,IF('SP1 E42'!$F47="x",5,""))))) -> 5 | D6: =IF('SP2 E42'!$B47="x",1,IF('SP2 E42'!$C47="x",2,IF('SP2 E42'!$D47="x",3,IF('SP2 E42'!$E47="x",4,IF('SP2 E42'!$F47="x",5,""))))) -> 3 | E6: =IF('SP3 E42'!$B47="x",1,IF('SP3 E42'!$C47="x",2,IF('SP3 E42'!$D47="x",3,IF('SP3 E42'!$E47="x",4,IF('SP3 E42'!$F47="x",5,""))))) -> 4 | F6: =IF('SP4 E42'!$B47="x",1,IF('SP4 E42'!$C47="x",2,IF('SP4 E42'!$D47="x",3,IF('SP4 E42'!$E47="x",4,IF('SP4 E42'!$F47="x",5,""))))) -> 2 | G6: =IF('SP5 E42'!$B47="x",1,IF('SP5 E42'!$C47="x",2,IF('SP5 E42'!$D47="x",3,IF('SP5 E42'!$E47="x",4,IF('SP5 E42'!$F47="x",5,""))))) -> 3 | H6: =IF('SP6 E42'!$B47="x",1,IF('SP6 E42'!$C47="x",2,IF('SP6 E42'!$D47="x",3,IF('SP6 E42'!$E47="x",4,IF('SP6 E42'!$F47="x",5,""))))) -> 3 | I6: =IF('SP7 E42'!$B47="x",1,IF('SP7 E42'!$C47="x",2,IF('SP7 E42'!$D47="x",3,IF('SP7 E42'!$E47="x",4,IF('SP7 E42'!$F47="x",5,""))))) -> 2 | J6: =IF('SP8 E42'!$B47="x",1,IF('SP8 E42'!$C47="x",2,IF('SP8 E42'!$D47="x",3,IF('SP8 E42'!$E47="x",4,IF('SP8 E42'!$F47="x",5,""))))) -> 4
B7: 3.Pertinence des solutions numériques retenues pour effectuer les traitements | C7: =IF('SP1 E42'!$B48="x",1,IF('SP1 E42'!$C48="x",2,IF('SP1 E42'!$D48="x",3,IF('SP1 E42'!$E48="x",4,IF('SP1 E42'!$F48="x",5,""))))) -> 2 | D7: =IF('SP2 E42'!$B48="x",1,IF('SP2 E42'!$C48="x",2,IF('SP2 E42'!$D48="x",3,IF('SP2 E42'!$E48="x",4,IF('SP2 E42'!$F48="x",5,""))))) -> 2 | E7: =IF('SP3 E42'!$B48="x",1,IF('SP3 E42'!$C48="x",2,IF('SP3 E42'!$D48="x",3,IF('SP3 E42'!$E48="x",4,IF('SP3 E42'!$F48="x",5,""))))) -> 3 | F7: =IF('SP4 E42'!$B48="x",1,IF('SP4 E42'!$C48="x",2,IF('SP4 E42'!$D48="x",3,IF('SP4 E42'!$E48="x",4,IF('SP4 E42'!$F48="x",5,""))))) -> 3 | G7: =IF('SP5 E42'!$B48="x",1,IF('SP5 E42'!$C48="x",2,IF('SP5 E42'!$D48="x",3,IF('SP5 E42'!$E48="x",4,IF('SP5 E42'!$F48="x",5,""))))) -> 2 | H7: =IF('SP6 E42'!$B48="x",1,IF('SP6 E42'!$C48="x",2,IF('SP6 E42'!$D48="x",3,IF('SP6 E42'!$E48="x",4,IF('SP6 E42'!$F48="x",5,""))))) -> 3 | I7: =IF('SP7 E42'!$B48="x",1,IF('SP7 E42'!$C48="x",2,IF('SP7 E42'!$D48="x",3,IF('SP7 E42'!$E48="x",4,IF('SP7 E42'!$F48="x",5,""))))) -> 2 | J7: =IF('SP8 E42'!$B48="x",1,IF('SP8 E42'!$C48="x",2,IF('SP8 E42'!$D48="x",3,IF('SP8 E42'!$E48="x",4,IF('SP8 E42'!$F48="x",5,""))))) -> 4
B8: 4.Précision et rigueur de la présentation des productions réalisées et de la démarche mise en œuvre | C8: =IF('SP1 E42'!$B49="x",1,IF('SP1 E42'!$C49="x",2,IF('SP1 E42'!$D49="x",3,IF('SP1 E42'!$E49="x",4,IF('SP1 E42'!$F49="x",5,""))))) -> 3 | D8: =IF('SP2 E42'!$B49="x",1,IF('SP2 E42'!$C49="x",2,IF('SP2 E42'!$D49="x",3,IF('SP2 E42'!$E49="x",4,IF('SP2 E42'!$F49="x",5,""))))) -> 2 | E8: =IF('SP3 E42'!$B49="x",1,IF('SP3 E42'!$C49="x",2,IF('SP3 E42'!$D49="x",3,IF('SP3 E42'!$E49="x",4,IF('SP3 E42'!$F49="x",5,""))))) -> 2 | F8: =IF('SP4 E42'!$B49="x",1,IF('SP4 E42'!$C49="x",2,IF('SP4 E42'!$D49="x",3,IF('SP4 E42'!$E49="x",4,IF('SP4 E42'!$F49="x",5,""))))) -> 4 | G8: =IF('SP5 E42'!$B49="x",1,IF('SP5 E42'!$C49="x",2,IF('SP5 E42'!$D49="x",3,IF('SP5 E42'!$E49="x",4,IF('SP5 E42'!$F49="x",5,""))))) -> 1 | H8: =IF('SP6 E42'!$B49="x",1,IF('SP6 E42'!$C49="x",2,IF('SP6 E42'!$D49="x",3,IF('SP6 E42'!$E49="x",4,IF('SP6 E42'!$F49="x",5,""))))) -> 3 | I8: =IF('SP7 E42'!$B49="x",1,IF('SP7 E42'!$C49="x",2,IF('SP7 E42'!$D49="x",3,IF('SP7 E42'!$E49="x",4,IF('SP7 E42'!$F49="x",5,""))))) -> 2 | J8: =IF('SP8 E42'!$B49="x",1,IF('SP8 E42'!$C49="x",2,IF('SP8 E42'!$D49="x",3,IF('SP8 E42'!$E49="x",4,IF('SP8 E42'!$F49="x",5,""))))) -> 4
B9: 5.Pertinence et justification des démarches mises en œuvre | C9: =IF('SP1 E42'!$B50="x",1,IF('SP1 E42'!$C50="x",2,IF('SP1 E42'!$D50="x",3,IF('SP1 E42'!$E50="x",4,IF('SP1 E42'!$F50="x",5,""))))) -> 2 | D9: =IF('SP2 E42'!$B50="x",1,IF('SP2 E42'!$C50="x",2,IF('SP2 E42'!$D50="x",3,IF('SP2 E42'!$E50="x",4,IF('SP2 E42'!$F50="x",5,""))))) -> 1 | E9: =IF('SP3 E42'!$B50="x",1,IF('SP3 E42'!$C50="x",2,IF('SP3 E42'!$D50="x",3,IF('SP3 E42'!$E50="x",4,IF('SP3 E42'!$F50="x",5,""))))) -> 2 | F9: =IF('SP4 E42'!$B50="x",1,IF('SP4 E42'!$C50="x",2,IF('SP4 E42'!$D50="x",3,IF('SP4 E42'!$E50="x",4,IF('SP4 E42'!$F50="x",5,""))))) -> 5 | G9: =IF('SP5 E42'!$B50="x",1,IF('SP5 E42'!$C50="x",2,IF('SP5 E42'!$D50="x",3,IF('SP5 E42'!$E50="x",4,IF('SP5 E42'!$F50="x",5,""))))) -> 2 | H9: =IF('SP6 E42'!$B50="x",1,IF('SP6 E42'!$C50="x",2,IF('SP6 E42'!$D50="x",3,IF('SP6 E42'!$E50="x",4,IF('SP6 E42'!$F50="x",5,""))))) -> 3 | I9: =IF('SP7 E42'!$B50="x",1,IF('SP7 E42'!$C50="x",2,IF('SP7 E42'!$D50="x",3,IF('SP7 E42'!$E50="x",4,IF('SP7 E42'!$F50="x",5,""))))) -> 2 | J9: =IF('SP8 E42'!$B50="x",1,IF('SP8 E42'!$C50="x",2,IF('SP8 E42'!$D50="x",3,IF('SP8 E42'!$E50="x",4,IF('SP8 E42'!$F50="x",5,""))))) -> 4
B10: 6.Qualité et efficacité de la communication | C10: =IF('SP1 E42'!$B51="x",1,IF('SP1 E42'!$C51="x",2,IF('SP1 E42'!$D51="x",3,IF('SP1 E42'!$E51="x",4,IF('SP1 E42'!$F51="x",5,""))))) -> 4 | D10: =IF('SP2 E42'!$B51="x",1,IF('SP2 E42'!$C51="x",2,IF('SP2 E42'!$D51="x",3,IF('SP2 E42'!$E51="x",4,IF('SP2 E42'!$F51="x",5,""))))) -> 4 | E10: =IF('SP3 E42'!$B51="x",1,IF('SP3 E42'!$C51="x",2,IF('SP3 E42'!$D51="x",3,IF('SP3 E42'!$E51="x",4,IF('SP3 E42'!$F51="x",5,""))))) -> 5 | F10: =IF('SP4 E42'!$B51="x",1,IF('SP4 E42'!$C51="x",2,IF('SP4 E42'!$D51="x",3,IF('SP4 E42'!$E51="x",4,IF('SP4 E42'!$F51="x",5,""))))) -> 4 | G10: =IF('SP5 E42'!$B51="x",1,IF('SP5 E42'!$C51="x",2,IF('SP5 E42'!$D51="x",3,IF('SP5 E42'!$E51="x",4,IF('SP5 E42'!$F51="x",5,""))))) -> 3 | H10: =IF('SP6 E42'!$B51="x",1,IF('SP6 E42'!$C51="x",2,IF('SP6 E42'!$D51="x",3,IF('SP6 E42'!$E51="x",4,IF('SP6 E42'!$F51="x",5,""))))) -> 3 | I10: =IF('SP7 E42'!$B51="x",1,IF('SP7 E42'!$C51="x",2,IF('SP7 E42'!$D51="x",3,IF('SP7 E42'!$E51="x",4,IF('SP7 E42'!$F51="x",5,""))))) -> 2 | J10: =IF('SP8 E42'!$B51="x",1,IF('SP8 E42'!$C51="x",2,IF('SP8 E42'!$D51="x",3,IF('SP8 E42'!$E51="x",4,IF('SP8 E42'!$F51="x",5,""))))) -> 4
